BEGIN:VCALENDAR
VERSION:2.0
PRODID:-//Nostalgia King - ECPv5.2.1//NONSGML v1.0//EN
CALSCALE:GREGORIAN
METHOD:PUBLISH
X-WR-CALNAME:Nostalgia King
X-ORIGINAL-URL:https://nostalgiaking.com
X-WR-CALDESC:Events for Nostalgia King
BEGIN:VTIMEZONE
TZID:UTC
BEGIN:STANDARD
TZOFFSETFROM:+0000
TZOFFSETTO:+0000
TZNAME:UTC
DTSTART:20230101T000000
END:STANDARD
END:VTIMEZONE
BEGIN:VEVENT
DTSTART;TZID=UTC:20230422T220000
DTEND;TZID=UTC:20230422T235900
DTSTAMP:20260422T162501
CREATED:20230327T052129Z
LAST-MODIFIED:20230327T052129Z
UID:17642-1682200800-1682207940@nostalgiaking.com
SUMMARY:4 The Culture @Shizuoka Freaky Show
DESCRIPTION:
URL:https://nostalgiaking.com/event/4-the-culture-shizuoka-freaky-show/
END:VEVENT
END:VCALENDAR