BEGIN:VCALENDAR
VERSION:2.0
PRODID:-//Nostalgia King - ECPv5.2.1//NONSGML v1.0//EN
CALSCALE:GREGORIAN
METHOD:PUBLISH
X-WR-CALNAME:Nostalgia King
X-ORIGINAL-URL:https://nostalgiaking.com
X-WR-CALDESC:Events for Nostalgia King
BEGIN:VTIMEZONE
TZID:UTC
BEGIN:STANDARD
TZOFFSETFROM:+0000
TZOFFSETTO:+0000
TZNAME:UTC
DTSTART:20220101T000000
END:STANDARD
END:VTIMEZONE
BEGIN:VEVENT
DTSTART;TZID=UTC:20220709T080000
DTEND;TZID=UTC:20220709T170000
DTSTAMP:20260423T211442
CREATED:20220518T233341Z
LAST-MODIFIED:20220706T143331Z
UID:16398-1657353600-1657386000@nostalgiaking.com
SUMMARY:Feeling Session (Paris\, France)
DESCRIPTION:All 45 night alongside DJs Rob Manga\, Large Professor\, Cléon and Fleg.
URL:https://nostalgiaking.com/event/bambino-paris-france/
END:VEVENT
END:VCALENDAR