BEGIN:VCALENDAR
VERSION:2.0
PRODID:-//Nostalgia King - ECPv5.2.1//NONSGML v1.0//EN
CALSCALE:GREGORIAN
METHOD:PUBLISH
X-WR-CALNAME:Nostalgia King
X-ORIGINAL-URL:https://nostalgiaking.com
X-WR-CALDESC:Events for Nostalgia King
BEGIN:VTIMEZONE
TZID:UTC
BEGIN:STANDARD
TZOFFSETFROM:+0000
TZOFFSETTO:+0000
TZNAME:UTC
DTSTART:20230101T000000
END:STANDARD
END:VTIMEZONE
BEGIN:VEVENT
DTSTART;TZID=UTC:20230718T080000
DTEND;TZID=UTC:20230718T170000
DTSTAMP:20260422T113608
CREATED:20230708T222758Z
LAST-MODIFIED:20230708T222758Z
UID:18148-1689667200-1689699600@nostalgiaking.com
SUMMARY:Dragon Style 17th Anniversary (Beijing\, China)
DESCRIPTION:
URL:https://nostalgiaking.com/event/dragon-style-17th-anniversary-beijing-china/
END:VEVENT
END:VCALENDAR