BEGIN:VCALENDAR
VERSION:2.0
PRODID:-//Nostalgia King - ECPv5.2.1//NONSGML v1.0//EN
CALSCALE:GREGORIAN
METHOD:PUBLISH
X-WR-CALNAME:Nostalgia King
X-ORIGINAL-URL:https://nostalgiaking.com
X-WR-CALDESC:Events for Nostalgia King
BEGIN:VTIMEZONE
TZID:UTC
BEGIN:STANDARD
TZOFFSETFROM:+0000
TZOFFSETTO:+0000
TZNAME:UTC
DTSTART:20250101T000000
END:STANDARD
END:VTIMEZONE
BEGIN:VEVENT
DTSTART;TZID=UTC:20250104T210000
DTEND;TZID=UTC:20250104T235900
DTSTAMP:20260419T214904
CREATED:20241126T232759Z
LAST-MODIFIED:20241126T232759Z
UID:19879-1736024400-1736035140@nostalgiaking.com
SUMMARY:Experimental Cocktail Club NYC
DESCRIPTION:Making my debut at the new Experimental Cocktail Club in New York to kick off the new year. \nLocated in La Compagnie Flatiron \n6 W 24th St\, New York\, NY 10010  \n9p – 1am
URL:https://nostalgiaking.com/event/experimental-cocktail-club-nyc/
END:VEVENT
END:VCALENDAR