BEGIN:VCALENDAR
VERSION:2.0
PRODID:-//Nostalgia King - ECPv5.2.1//NONSGML v1.0//EN
CALSCALE:GREGORIAN
METHOD:PUBLISH
X-WR-CALNAME:Nostalgia King
X-ORIGINAL-URL:https://nostalgiaking.com
X-WR-CALDESC:Events for Nostalgia King
BEGIN:VTIMEZONE
TZID:UTC
BEGIN:STANDARD
TZOFFSETFROM:+0000
TZOFFSETTO:+0000
TZNAME:UTC
DTSTART:20250101T000000
END:STANDARD
END:VTIMEZONE
BEGIN:VEVENT
DTSTART;TZID=UTC:20251108T080000
DTEND;TZID=UTC:20251108T170000
DTSTAMP:20260420T045357
CREATED:20251028T133740Z
LAST-MODIFIED:20251028T133740Z
UID:21125-1762588800-1762621200@nostalgiaking.com
SUMMARY:Shaft In Asakusa (Tokyo)
DESCRIPTION:
URL:https://nostalgiaking.com/event/shaft-in-asakusa-tokyo/
END:VEVENT
END:VCALENDAR