BEGIN:VCALENDAR
VERSION:2.0
PRODID:-//Nostalgia King - ECPv5.2.1//NONSGML v1.0//EN
CALSCALE:GREGORIAN
METHOD:PUBLISH
X-WR-CALNAME:Nostalgia King
X-ORIGINAL-URL:https://nostalgiaking.com
X-WR-CALDESC:Events for Nostalgia King
BEGIN:VTIMEZONE
TZID:UTC
BEGIN:STANDARD
TZOFFSETFROM:+0000
TZOFFSETTO:+0000
TZNAME:UTC
DTSTART:20190101T000000
END:STANDARD
END:VTIMEZONE
BEGIN:VEVENT
DTSTART;TZID=UTC:20190428T180000
DTEND;TZID=UTC:20190428T230000
DTSTAMP:20260420T030023
CREATED:20190423T011002Z
LAST-MODIFIED:20190423T011506Z
UID:10341-1556474400-1556492400@nostalgiaking.com
SUMMARY:Skeme Richards At Life Parc Beer Fest (Tokyo)
DESCRIPTION:For full details https://www.facebook.com/events/639986536455151/ \n 
URL:https://nostalgiaking.com/event/skeme-richards-at-life-parc-beer-fest-tokyo/
ATTACH;FMTTYPE=image/png:https://nostalgiaking.com/wp-content/uploads/2019/04/lifeparc.png
END:VEVENT
END:VCALENDAR