BEGIN:VCALENDAR
VERSION:2.0
PRODID:-//Nostalgia King - ECPv5.2.1//NONSGML v1.0//EN
CALSCALE:GREGORIAN
METHOD:PUBLISH
X-WR-CALNAME:Nostalgia King
X-ORIGINAL-URL:https://nostalgiaking.com
X-WR-CALDESC:Events for Nostalgia King
BEGIN:VTIMEZONE
TZID:UTC
BEGIN:STANDARD
TZOFFSETFROM:+0000
TZOFFSETTO:+0000
TZNAME:UTC
DTSTART:20250101T000000
END:STANDARD
END:VTIMEZONE
BEGIN:VEVENT
DTSTART;TZID=UTC:20250726T080000
DTEND;TZID=UTC:20250726T170000
DTSTAMP:20260420T091112
CREATED:20250708T124147Z
LAST-MODIFIED:20250708T124147Z
UID:20690-1753516800-1753549200@nostalgiaking.com
SUMMARY:Skeme Richards @ Studio 151 (NYC)
DESCRIPTION:
URL:https://nostalgiaking.com/event/skeme-richards-studio-151-nyc-2/
END:VEVENT
END:VCALENDAR