BEGIN:VCALENDAR
VERSION:2.0
PRODID:-//Nostalgia King - ECPv5.2.1//NONSGML v1.0//EN
CALSCALE:GREGORIAN
METHOD:PUBLISH
X-WR-CALNAME:Nostalgia King
X-ORIGINAL-URL:https://nostalgiaking.com
X-WR-CALDESC:Events for Nostalgia King
BEGIN:VTIMEZONE
TZID:UTC
BEGIN:STANDARD
TZOFFSETFROM:+0000
TZOFFSETTO:+0000
TZNAME:UTC
DTSTART:20200101T000000
END:STANDARD
END:VTIMEZONE
BEGIN:VEVENT
DTSTART;TZID=UTC:20200214T220000
DTEND;TZID=UTC:20200215T020000
DTSTAMP:20260426T031229
CREATED:20200122T224704Z
LAST-MODIFIED:20200122T224704Z
UID:12258-1581717600-1581732000@nostalgiaking.com
SUMMARY:Skeme @ The Trestle Inn
DESCRIPTION:Funk & Soul at Philly’s finest whiskey and Go Go bar.
URL:https://nostalgiaking.com/event/skeme-the-trestle-inn/
END:VEVENT
END:VCALENDAR