BEGIN:VCALENDAR
VERSION:2.0
PRODID:-//Nostalgia King - ECPv5.2.1//NONSGML v1.0//EN
CALSCALE:GREGORIAN
METHOD:PUBLISH
X-WR-CALNAME:Nostalgia King
X-ORIGINAL-URL:https://nostalgiaking.com
X-WR-CALDESC:Events for Nostalgia King
BEGIN:VTIMEZONE
TZID:UTC
BEGIN:STANDARD
TZOFFSETFROM:+0000
TZOFFSETTO:+0000
TZNAME:UTC
DTSTART:20230101T000000
END:STANDARD
END:VTIMEZONE
BEGIN:VEVENT
DTSTART;TZID=UTC:20230218T235900
DTEND;TZID=UTC:20230219T020000
DTSTAMP:20260422T193631
CREATED:20230126T015050Z
LAST-MODIFIED:20230126T015050Z
UID:17413-1676764740-1676772000@nostalgiaking.com
SUMMARY:Solomon King Film Screening @ Ritz 5 Theater (Philadelphia)
DESCRIPTION:The once “lost” and now newly rediscovered / restored Blaxploitation film\, Solomon King which has been making it’s way to select theaters will be getting a special midnight screening in Philadelphia at the Landmark Ritz 5 theater. In addition to this must see film getting a Philadelphia area screening\, I have the pleasure and honor of introducing the film before the lights go down and movie begins which is exciting for me as a lover of the genre and collector of memorabilia. \nOver the years I’ve curated and introduced several different screenings including a double feature in Köln Germany which screened Master of The Flying Guillotine with Black Caesar and in Amsterdam which featured 5 Fingers of Death and Kid With The Golden arm. \nThe midnight screening happens February 18th and early bird tickets are available now and highly recommended via https://www.landmarktheatres.com/movies/311308-solomon-king  \n 
URL:https://nostalgiaking.com/event/solomon-king-film-screening-ritz-5-theater-philadelphia/
ATTACH;FMTTYPE=image/jpeg:https://nostalgiaking.com/wp-content/uploads/2023/01/solomon.jpg
END:VEVENT
END:VCALENDAR