BEGIN:VCALENDAR
VERSION:2.0
PRODID:-//Nostalgia King - ECPv5.2.1//NONSGML v1.0//EN
CALSCALE:GREGORIAN
METHOD:PUBLISH
X-WR-CALNAME:Nostalgia King
X-ORIGINAL-URL:https://nostalgiaking.com
X-WR-CALDESC:Events for Nostalgia King
BEGIN:VTIMEZONE
TZID:UTC
BEGIN:STANDARD
TZOFFSETFROM:+0000
TZOFFSETTO:+0000
TZNAME:UTC
DTSTART:20240101T000000
END:STANDARD
END:VTIMEZONE
BEGIN:VEVENT
DTSTART;TZID=UTC:20241228T080000
DTEND;TZID=UTC:20241228T170000
DTSTAMP:20260419T214123
CREATED:20241126T231522Z
LAST-MODIFIED:20241126T231522Z
UID:19877-1735372800-1735405200@nostalgiaking.com
SUMMARY:Studio 151 (NYC)
DESCRIPTION:Back at my monthly New York City get down\, Studio 151. \n151 Ave. C \n11p-4am
URL:https://nostalgiaking.com/event/studio-151-nyc-8/
END:VEVENT
END:VCALENDAR