BEGIN:VCALENDAR
VERSION:2.0
PRODID:-//Nostalgia King - ECPv5.2.1//NONSGML v1.0//EN
CALSCALE:GREGORIAN
METHOD:PUBLISH
X-WR-CALNAME:Nostalgia King
X-ORIGINAL-URL:https://nostalgiaking.com
X-WR-CALDESC:Events for Nostalgia King
BEGIN:VTIMEZONE
TZID:UTC
BEGIN:STANDARD
TZOFFSETFROM:+0000
TZOFFSETTO:+0000
TZNAME:UTC
DTSTART:20180101T000000
END:STANDARD
END:VTIMEZONE
BEGIN:VEVENT
DTSTART;TZID=UTC:20180728T080000
DTEND;TZID=UTC:20180729T170000
DTSTAMP:20260423T223039
CREATED:20180607T154639Z
LAST-MODIFIED:20180718T150146Z
UID:6564-1532764800-1532883600@nostalgiaking.com
SUMMARY:Off The Wall x Matsumoto Lockin' Unity
DESCRIPTION: 
URL:https://nostalgiaking.com/event/tba-tokyo-japan/
ATTACH;FMTTYPE=image/jpeg:https://nostalgiaking.com/wp-content/uploads/2018/06/Nagano.jpg
END:VEVENT
END:VCALENDAR